BEGIN:VCALENDAR
VERSION:2.0
PRODID:-//Discover Navajo - ECPv6.15.17.1//NONSGML v1.0//EN
CALSCALE:GREGORIAN
METHOD:PUBLISH
X-WR-CALNAME:Discover Navajo
X-ORIGINAL-URL:https://discovernavajo.com
X-WR-CALDESC:Events for Discover Navajo
REFRESH-INTERVAL;VALUE=DURATION:PT1H
X-Robots-Tag:noindex
X-PUBLISHED-TTL:PT1H
BEGIN:VTIMEZONE
TZID:UTC
BEGIN:STANDARD
TZOFFSETFROM:+0000
TZOFFSETTO:+0000
TZNAME:UTC
DTSTART:20250101T000000
END:STANDARD
END:VTIMEZONE
BEGIN:VEVENT
DTSTART;TZID=UTC:20260501T120000
DTEND;TZID=UTC:20260501T190000
DTSTAMP:20260421T223254
CREATED:20260420T160627Z
LAST-MODIFIED:20260420T160857Z
UID:9241-1777636800-1777662000@discovernavajo.com
SUMMARY:Shiprock Marathon : Ashlynne Mike Mile + 5K + Elder Run (Shiprock\, NM)
DESCRIPTION:Kick-off Events before Marathon Day!\n\nAshlynn Mike Mile @ 12-1PM MDT\nElder Run @ 2-3PM MDT\n5k @ 5-6:30PM MDT\n\nRegistration ends May 1\, 2026 at 12:00PM MDT! \n\n    REGISTER\n     \nThe Shiprock 5K Trail Race will take place at 5:00 p.m. on Friday\, May 1 on the Blueberry Hill course\, beginning and ending at the Youth Center.  There are awards for top individual (overall and age-group top three) and team winners.  All runners will receive a performance t-shirt\, race poster\, swag and post-race snacks.  We have added two new events to Friday’s lineup.  We will host the Elder’s Run at 3pm.  These events are fun-run style\, so no timing or awards.  Each finisher will receive a finishers medal. \nE-mail us at chuskaman@yahoo.com  or at info@rmtiming.co  if you have any questions at all.
URL:https://discovernavajo.com/event/shiprock-marathon-shiprock-nm/
LOCATION:AZ
ATTACH;FMTTYPE=image/jpeg:https://discovernavajo.com/wp-content/uploads/2025/01/SR-NavajoYes.jpg
ORGANIZER;CN="NavajoYES":MAILTO:chuskaman@yahoo.com
END:VEVENT
END:VCALENDAR