BEGIN:VCALENDAR
VERSION:2.0
PRODID:-//Discover Navajo - ECPv6.15.17.1//NONSGML v1.0//EN
CALSCALE:GREGORIAN
METHOD:PUBLISH
X-ORIGINAL-URL:https://discovernavajo.com
X-WR-CALDESC:Events for Discover Navajo
REFRESH-INTERVAL;VALUE=DURATION:PT1H
X-Robots-Tag:noindex
X-PUBLISHED-TTL:PT1H
BEGIN:VTIMEZONE
TZID:UTC
BEGIN:STANDARD
TZOFFSETFROM:+0000
TZOFFSETTO:+0000
TZNAME:UTC
DTSTART:20250101T000000
END:STANDARD
END:VTIMEZONE
BEGIN:VEVENT
DTSTART;TZID=UTC:20260502T063000
DTEND;TZID=UTC:20260502T170000
DTSTAMP:20260422T015604
CREATED:20260420T161354Z
LAST-MODIFIED:20260420T161354Z
UID:9248-1777703400-1777741200@discovernavajo.com
SUMMARY:Shiprock Marathon (Shiprock\, NM)
DESCRIPTION:The 44th annual Shiprock Marathon is a Boston Qualifier and a part of the Abbott Marathon Majors Masters World Championships.\n\n\nShiprock Marathon is the oldest and largest marathon on the Navajo Nation and offers other-worldly views of this volcanic core that juts 1800 feet into the desert sky. The marathon and half-marathon courses take you on a scenic route with stellar views of the iconic Shiprock Pinnacle. There are aid stations every mile\, and live music all around the course. Race weekend includes a 5K trail race\, a Health and Wellness Expo\, and a post-race party you won’t soon forget. The Shiprock Kids Marathon annually attracts 500+ runners who do a “marathon” at their own pace over the course of the spring.\n\n\n“Shiprock Marathon is rated by USA Today as “One of the 10 Best Marathons in the USA.” \n\n    REGISTER\n    \n\n*Registration Prices increase after April 30th\, 2026 @ 11:59PM MDT!
URL:https://discovernavajo.com/event/shiprock-marathon-shiprock-nm-2/
LOCATION:AZ
ATTACH;FMTTYPE=image/jpeg:https://discovernavajo.com/wp-content/uploads/2025/01/SR-NavajoYes.jpg
ORGANIZER;CN="NavajoYES":MAILTO:chuskaman@yahoo.com
END:VEVENT
BEGIN:VEVENT
DTSTART;TZID=UTC:20260508T100000
DTEND;TZID=UTC:20260509T180000
DTSTAMP:20260422T015604
CREATED:20260421T211004Z
LAST-MODIFIED:20260421T211004Z
UID:9259-1778234400-1778349600@discovernavajo.com
SUMMARY:Art Market in May (Window Rock & Chinle\, AZ)
DESCRIPTION:
URL:https://discovernavajo.com/event/art-market-in-may-window-rock-chinle-az/
LOCATION:Navajo Arts & Crafts Enterprise / Window Rock\, Window Rock\, AZ\, 86515\, United States
ATTACH;FMTTYPE=image/jpeg:https://discovernavajo.com/wp-content/uploads/2026/04/1176x649-NACE-MayMarket.jpg
END:VEVENT
BEGIN:VEVENT
DTSTART;TZID=UTC:20260525T073000
DTEND;TZID=UTC:20260525T133000
DTSTAMP:20260422T015604
CREATED:20260420T181646Z
LAST-MODIFIED:20260420T181730Z
UID:9251-1779694200-1779715800@discovernavajo.com
SUMMARY:Hashkéníini Bike Road Race (Navajo Mountain\, UT/AZ)
DESCRIPTION:Located in Navajo Mountain\, UT/AZ; The Hashkéníinii Bike Race is comprised of 50-mile and 10-mile road races. All riders receive a finisher’s medallion\, custom t-shirt\, course support and a chance at overall and age-group awards. The Hashkéníinii Bike Race is named in honor of the legendary Diné leader whose leadership and resilience was instrumental during the Long Walk period for the Naatsisaan\, Paiute Mesa and Oljeto communities. \n\n30 Mile Road Race\n10 Mile Road Race\nYOUTH 30 Mile Road Race (Age 18 & under)\nYOUTH 10 Mile Road Race (Age 18 & under)\n\nREGISTRATION – REGISTRATION IS AVAILABLE ONLINE THRU SUNDAY @ 8:00 p.m. on Run Sign Up.  There will be on-site registration on Monday morning for $55. Your registration earns you a performance t-shirt\, finisher’s medal\, course support\, decal\, copy of Navajo Trail Guide\, post-race food and plaque awards to top finishers.
URL:https://discovernavajo.com/event/hashkeniini-bike-road-race-navajo-mountain-ut-az/
LOCATION:Navajo Mountain High School\, Route 16\, Navajo Mountain\, UT\, 84510\, United States
ATTACH;FMTTYPE=image/jpeg:https://discovernavajo.com/wp-content/uploads/2026/04/1176x649-HashkeniniiBikeRace.jpg
ORGANIZER;CN="NavajoYES":MAILTO:chuskaman@yahoo.com
END:VEVENT
END:VCALENDAR